BEGIN:VCALENDAR
VERSION:2.0
PRODID:-//Portland - ECPv6.15.20//NONSGML v1.0//EN
CALSCALE:GREGORIAN
METHOD:PUBLISH
X-WR-CALNAME:Portland
X-ORIGINAL-URL:https://portland.cisvusa.org
X-WR-CALDESC:Events for Portland
REFRESH-INTERVAL;VALUE=DURATION:PT1H
X-Robots-Tag:noindex
X-PUBLISHED-TTL:PT1H
BEGIN:VTIMEZONE
TZID:America/Los_Angeles
BEGIN:DAYLIGHT
TZOFFSETFROM:-0800
TZOFFSETTO:-0700
TZNAME:PDT
DTSTART:20180311T100000
END:DAYLIGHT
BEGIN:STANDARD
TZOFFSETFROM:-0700
TZOFFSETTO:-0800
TZNAME:PST
DTSTART:20181104T090000
END:STANDARD
BEGIN:DAYLIGHT
TZOFFSETFROM:-0800
TZOFFSETTO:-0700
TZNAME:PDT
DTSTART:20190310T100000
END:DAYLIGHT
BEGIN:STANDARD
TZOFFSETFROM:-0700
TZOFFSETTO:-0800
TZNAME:PST
DTSTART:20191103T090000
END:STANDARD
BEGIN:DAYLIGHT
TZOFFSETFROM:-0800
TZOFFSETTO:-0700
TZNAME:PDT
DTSTART:20200308T100000
END:DAYLIGHT
BEGIN:STANDARD
TZOFFSETFROM:-0700
TZOFFSETTO:-0800
TZNAME:PST
DTSTART:20201101T090000
END:STANDARD
END:VTIMEZONE
BEGIN:VEVENT
DTSTART;TZID=America/Los_Angeles:20191116T110000
DTEND;TZID=America/Los_Angeles:20191116T120000
DTSTAMP:20260420T210346
CREATED:20191028T225519Z
LAST-MODIFIED:20191028T225643Z
UID:10000049-1573902000-1573905600@portland.cisvusa.org
SUMMARY:CISV Portland 2020 Program Infosession #3
DESCRIPTION:Join us to learn about our international program opportunities for 2020. We will be looking for youth delegate and leaders (aged 21+) for the following ages/programs: \nFor 11-year-olds: “Village” is a unique 4-week camp for youth from 12 countries. Delegates to this multicultural experience participate in a mix of educational\, cultural\, and sporting activities which emphasize cooperative global and intercultural living. \nPROGRAM LOCATION: Paris\, France from July 2nd-July 30\, 2020 \nFor 12 and 13-year-olds: “Interchange” is a 4-week program that encourages a deeper encounter between two cultures by placing young people within families. Delegates are matched with a partner of the same gender from another country and they take turns living together with each other’s families. In addition to family activities\, all of the youth delegates from both countries get together for group activities every few days that include CISV peace education curriculum. Not only is this a profound intercultural experience for the youth participant\, but it also engages the whole family in the CISV experience. \nPROGRAM LOCATION: Portland\, OR and Ferrara\, Italy. Dates TBD. \nNational and International programs also available for teens 16+. \nJOIN US AND LEARN MORE about our organization and our programs\, including application info\, program locations and dates\, and more.
URL:https://portland.cisvusa.org/event/cisv-portland-2020-program-infosession-3/
LOCATION:Three Creeks Community Library\, 800 NE Tenney Rd\, Vancouver\, WA\, 98685\, United States
CATEGORIES:For Kids and Families
ATTACH;FMTTYPE=image/jpeg:https://portland.cisvusa.org/wp-content/uploads/sites/18/2018/03/IMG_7475.jpg
ORGANIZER;CN="CISV Portland":MAILTO:portland@cisvusa.org
GEO:45.7207686;-122.6634358
X-APPLE-STRUCTURED-LOCATION;VALUE=URI;X-ADDRESS=DESCRIPTION:Join us to learn about our international program opportunities for 2020. We will be looking for youth delegate and leaders (aged 21+) for the following ages/programs: \nFor 11-year-olds: “Village” is a unique 4-week camp for youth from 12 countries. Delegates to this multicultural experience participate in a mix of educational cultural and sporting activities which emphasize cooperative global and intercultural living. \nPROGRAM  Paris France from July 2nd-July 30 2020 \nFor 12 and 13-year-olds: “Interchange” is a 4-week program that encourages a deeper encounter between two cultures by placing young people within families. Delegates are matched with a partner of the same gender from another country and they take turns living together with each other’s families. In addition to family activities all of the youth delegates from both countries get together for group activities every few days that include CISV peace education curriculum. Not only is this a profound intercultural experience for the youth participant but it also engages the whole family in the CISV experience. \nPROGRAM  Portland OR and Ferrara Italy. Dates TBD. \nNational and International programs also available for teens 16+. \nJOIN US AND LEARN MORE about our organization and our programs including application info program locations and dates and more.;X-APPLE-RADIUS=500;X-TITLE=800 NE Tenney Rd:geo:-122.6634358,45.7207686
END:VEVENT
END:VCALENDAR