BEGIN:VCALENDAR
VERSION:2.0
PRODID:-//Portland - ECPv6.15.20//NONSGML v1.0//EN
CALSCALE:GREGORIAN
METHOD:PUBLISH
X-WR-CALNAME:Portland
X-ORIGINAL-URL:https://portland.cisvusa.org
X-WR-CALDESC:Events for Portland
REFRESH-INTERVAL;VALUE=DURATION:PT1H
X-Robots-Tag:noindex
X-PUBLISHED-TTL:PT1H
BEGIN:VTIMEZONE
TZID:America/Los_Angeles
BEGIN:DAYLIGHT
TZOFFSETFROM:-0800
TZOFFSETTO:-0700
TZNAME:PDT
DTSTART:20240310T100000
END:DAYLIGHT
BEGIN:STANDARD
TZOFFSETFROM:-0700
TZOFFSETTO:-0800
TZNAME:PST
DTSTART:20241103T090000
END:STANDARD
BEGIN:DAYLIGHT
TZOFFSETFROM:-0800
TZOFFSETTO:-0700
TZNAME:PDT
DTSTART:20250309T100000
END:DAYLIGHT
BEGIN:STANDARD
TZOFFSETFROM:-0700
TZOFFSETTO:-0800
TZNAME:PST
DTSTART:20251102T090000
END:STANDARD
BEGIN:DAYLIGHT
TZOFFSETFROM:-0800
TZOFFSETTO:-0700
TZNAME:PDT
DTSTART:20260308T100000
END:DAYLIGHT
BEGIN:STANDARD
TZOFFSETFROM:-0700
TZOFFSETTO:-0800
TZNAME:PST
DTSTART:20261101T090000
END:STANDARD
END:VTIMEZONE
BEGIN:VEVENT
DTSTART;TZID=America/Los_Angeles:20250608T120000
DTEND;TZID=America/Los_Angeles:20250608T140000
DTSTAMP:20260422T234125
CREATED:20250428T184008Z
LAST-MODIFIED:20250428T184104Z
UID:10000087-1749384000-1749391200@portland.cisvusa.org
SUMMARY:Bon Voyage Picnic & General Meeting
DESCRIPTION:Mark your calendars for our annual Bon Voyage Picnic and General Meeting!\nSunday June 8 | 12pm – 2pm | Peninsula Park\, 700 N Rosa Parks Way\nJoin us on June 8 to send our traveling delegations off in style and help us take care of some official business. We will elect chapter officers for the next year\, as well as hear the President’s Report\, Treasurer’s Report\, and Volunteer Update. \n\n \nWho: All chapter families (not just those traveling this summer!) – we hope to see you all there. \nWhere: 700 N Rosa Parks Way\, Portland\, OR 97217\, Picnic Area B \nWhat to bring: CISV Portland will have coolers with ice\, tablecloths\, cutlery\, plates\, napkins\, and cups. Please plan to bring the following: \n\n\nIf your surname ends with A-G\, please bring a main dish to share \n\n\nIf your surname ends with H-P\, please bring a dessert AND non-alcoholic beverages for 6-8 people (cans or 1 large bottle) to share \n\n\nIf your surname ends with Q-Z\, please bring a side dish/appetizer
URL:https://portland.cisvusa.org/event/bon-voyage-picnic-general-meeting/
LOCATION:Penninsula Park\, 700 N Rosa Parks Way\, Portland\, OR\, 97217\, United States
CATEGORIES:For Kids and Families
ATTACH;FMTTYPE=image/jpeg:https://portland.cisvusa.org/wp-content/uploads/sites/18/2025/04/IMG_2612-scaled.jpeg
ORGANIZER;CN="CISV Portland":MAILTO:portland@cisvusa.org
END:VEVENT
END:VCALENDAR