BEGIN:VCALENDAR
VERSION:2.0
PRODID:-//Portland - ECPv6.15.20//NONSGML v1.0//EN
CALSCALE:GREGORIAN
METHOD:PUBLISH
X-WR-CALNAME:Portland
X-ORIGINAL-URL:https://portland.cisvusa.org
X-WR-CALDESC:Events for Portland
REFRESH-INTERVAL;VALUE=DURATION:PT1H
X-Robots-Tag:noindex
X-PUBLISHED-TTL:PT1H
BEGIN:VTIMEZONE
TZID:America/Los_Angeles
BEGIN:DAYLIGHT
TZOFFSETFROM:-0800
TZOFFSETTO:-0700
TZNAME:PDT
DTSTART:20170312T100000
END:DAYLIGHT
BEGIN:STANDARD
TZOFFSETFROM:-0700
TZOFFSETTO:-0800
TZNAME:PST
DTSTART:20171105T090000
END:STANDARD
BEGIN:DAYLIGHT
TZOFFSETFROM:-0800
TZOFFSETTO:-0700
TZNAME:PDT
DTSTART:20180311T100000
END:DAYLIGHT
BEGIN:STANDARD
TZOFFSETFROM:-0700
TZOFFSETTO:-0800
TZNAME:PST
DTSTART:20181104T090000
END:STANDARD
BEGIN:DAYLIGHT
TZOFFSETFROM:-0800
TZOFFSETTO:-0700
TZNAME:PDT
DTSTART:20190310T100000
END:DAYLIGHT
BEGIN:STANDARD
TZOFFSETFROM:-0700
TZOFFSETTO:-0800
TZNAME:PST
DTSTART:20191103T090000
END:STANDARD
END:VTIMEZONE
BEGIN:VTIMEZONE
TZID:America/New_York
BEGIN:DAYLIGHT
TZOFFSETFROM:-0500
TZOFFSETTO:-0400
TZNAME:EDT
DTSTART:20170312T070000
END:DAYLIGHT
BEGIN:STANDARD
TZOFFSETFROM:-0400
TZOFFSETTO:-0500
TZNAME:EST
DTSTART:20171105T060000
END:STANDARD
BEGIN:DAYLIGHT
TZOFFSETFROM:-0500
TZOFFSETTO:-0400
TZNAME:EDT
DTSTART:20180311T070000
END:DAYLIGHT
BEGIN:STANDARD
TZOFFSETFROM:-0400
TZOFFSETTO:-0500
TZNAME:EST
DTSTART:20181104T060000
END:STANDARD
BEGIN:DAYLIGHT
TZOFFSETFROM:-0500
TZOFFSETTO:-0400
TZNAME:EDT
DTSTART:20190310T070000
END:DAYLIGHT
BEGIN:STANDARD
TZOFFSETFROM:-0400
TZOFFSETTO:-0500
TZNAME:EST
DTSTART:20191103T060000
END:STANDARD
END:VTIMEZONE
BEGIN:VEVENT
DTSTART;TZID=America/Los_Angeles:20181210T193000
DTEND;TZID=America/Los_Angeles:20181210T210000
DTSTAMP:20260419T212706
CREATED:20180718T024208Z
LAST-MODIFIED:20180916T194659Z
UID:10000013-1544470200-1544475600@portland.cisvusa.org
SUMMARY:CISV Portland Executive Committee Meeting
DESCRIPTION:
URL:https://portland.cisvusa.org/event/cisv-portland-executive-committee-meeting/2018-12-10/
LOCATION:TBD
END:VEVENT
BEGIN:VEVENT
DTSTART;TZID=America/Los_Angeles:20181112T193000
DTEND;TZID=America/Los_Angeles:20181112T210000
DTSTAMP:20260419T212706
CREATED:20180718T024208Z
LAST-MODIFIED:20180916T194659Z
UID:10000012-1542051000-1542056400@portland.cisvusa.org
SUMMARY:CISV Portland Executive Committee Meeting
DESCRIPTION:
URL:https://portland.cisvusa.org/event/cisv-portland-executive-committee-meeting/2018-11-12/
LOCATION:TBD
END:VEVENT
BEGIN:VEVENT
DTSTART;TZID=America/Los_Angeles:20181108T183000
DTEND;TZID=America/Los_Angeles:20181108T193000
DTSTAMP:20260419T212706
CREATED:20180718T025547Z
LAST-MODIFIED:20181030T003304Z
UID:10000016-1541701800-1541705400@portland.cisvusa.org
SUMMARY:Program Info-session #2
DESCRIPTION:Will your child be 11 years old at any time between June 1 and August 31\, 2019? \nIN SUMMER 2019\, WOULD YOUR CHILD LIKE TO…\n…make friends with kids from around the world?\n…learn firsthand about other cultures?\n…build confidence and leadership skills?\n…have an unforgettable and fun experience?\nIf yes\, then your child could represent the USA to the world at an International Camp!\nCISV Portland is actively looking for 4 kids (2 boys\, 2 girls) to represent the United States at an international camp in NORWAY from June 27th to July 25th\, 2019. This “Village” is a unique 4-week camp for youth from 12 countries. Delegates to this multicultural experience participate in a mix of educational\, cultural\, and sporting activities which emphasize cooperative global and intercultural living. National and International programs also available for teens 16+.\nJOIN US AND LEARN MORE about our programs.
URL:https://portland.cisvusa.org/event/program-info-session-3/
LOCATION:TaborSpace\, Room 5\, 5441 SE Belmont St\, Portland\, OR\, 97215
ATTACH;FMTTYPE=image/jpeg:https://portland.cisvusa.org/wp-content/uploads/sites/18/2018/10/DSCF0613.jpg
GEO:45.5167944;-122.6072292
X-APPLE-STRUCTURED-LOCATION;VALUE=URI;X-ADDRESS=TaborSpace Room 5 5441 SE Belmont St Portland OR 97215;X-APPLE-RADIUS=500;X-TITLE=5441 SE Belmont St:geo:-122.6072292,45.5167944
END:VEVENT
BEGIN:VEVENT
DTSTART;TZID=America/Los_Angeles:20181107T180000
DTEND;TZID=America/Los_Angeles:20181107T210000
DTSTAMP:20260419T212706
CREATED:20181025T000204Z
LAST-MODIFIED:20181030T003346Z
UID:10000017-1541613600-1541624400@portland.cisvusa.org
SUMMARY:Bingo for Peace - A Fundraiser for CISV Portland
DESCRIPTION:Bring a friend or 5 and join us for BINGO\, pizza\, and prizes as we raise money for CISV Portland’s first International Peace Camp for kids – a “Step Up” to be held in summer 2020. We get 100% of all money raised\, and you get to have giddy\, Bingo fun and WIN BIG! \nThat’s right – there will be prizes! Winners of each round of BINGO will be entered into our prize draw for these AMAZING items:\n– 2 nights at a beautiful beach house in Tierra del Mar\, Oregon. Sleeps 6 (Value $250+)\n– Portland Thorns tickets for the upcoming 2019 Season\n– Gift cards to the delicious Pizzicato and Por Que No\n– Lagunitas swag\n– MORE TBD!!!! \nAdmission: $20. Includes food\, bingo\, and 1 drink token. Additional drink tokens and prize draw tickets available for purchase. \nEvent space and beer fueled by Lagunitas Brewing Co
URL:https://portland.cisvusa.org/event/bingo-for-peace-a-fundraiser-for-cisv-portland/
LOCATION:Lagunitas Community Room\, 237 NE Broadway\, Suite 300\, Portland\, OR\, 97232\, United States
ATTACH;FMTTYPE=image/jpeg:https://portland.cisvusa.org/wp-content/uploads/sites/18/2018/10/CISV_Bingo_for_Peace_FB_Event_Banner_100418.jpg
GEO:45.5353107;-122.6628473
X-APPLE-STRUCTURED-LOCATION;VALUE=URI;X-ADDRESS=Lagunitas Community Room 237 NE Broadway Suite 300 Portland OR 97232 United States;X-APPLE-RADIUS=500;X-TITLE=237 NE Broadway\, Suite 300:geo:-122.6628473,45.5353107
END:VEVENT
BEGIN:VEVENT
DTSTART;TZID=America/New_York:20181103T133000
DTEND;TZID=America/New_York:20181103T143000
DTSTAMP:20260419T212706
CREATED:20180718T025114Z
LAST-MODIFIED:20181030T003045Z
UID:10000015-1541251800-1541255400@portland.cisvusa.org
SUMMARY:Program Info-session #1
DESCRIPTION:Will your child be 11 years old at any time between June 1 and August 31\, 2019? \nIN SUMMER 2019\, WOULD YOUR CHILD LIKE TO…\n…make friends with kids from around the world?\n…learn firsthand about other cultures?\n…build confidence and leadership skills?\n…have an unforgettable and fun experience?\nIf yes\, then your child could represent the USA to the world at an International Camp!\nCISV Portland is actively looking for 4 kids (2 boys\, 2 girls) to represent the United States at an international camp in NORWAY from June 27th to July 25th\, 2019. This “Village” is a unique 4-week camp for youth from 12 countries. Delegates to this multicultural experience participate in a mix of educational\, cultural\, and sporting activities which emphasize cooperative global and intercultural living. National and International programs also available for teens 16+.\nJOIN US AND LEARN MORE about our programs.
URL:https://portland.cisvusa.org/event/program-info-session/
LOCATION:TaborSpace\, Room 5\, 5441 SE Belmont St\, Portland\, OR\, 97215
ATTACH;FMTTYPE=image/jpeg:https://portland.cisvusa.org/wp-content/uploads/sites/18/2018/10/DSCF0613.jpg
GEO:45.5167944;-122.6072292
X-APPLE-STRUCTURED-LOCATION;VALUE=URI;X-ADDRESS=TaborSpace Room 5 5441 SE Belmont St Portland OR 97215;X-APPLE-RADIUS=500;X-TITLE=5441 SE Belmont St:geo:-122.6072292,45.5167944
END:VEVENT
BEGIN:VEVENT
DTSTART;TZID=America/Los_Angeles:20181028T163000
DTEND;TZID=America/Los_Angeles:20181028T183000
DTSTAMP:20260419T212706
CREATED:20180718T024629Z
LAST-MODIFIED:20181025T175230Z
UID:10000014-1540744200-1540751400@portland.cisvusa.org
SUMMARY:Annual General Meeting and 2019 Program Reveal
DESCRIPTION:Join CISV Portland in the Annex at Taborspace for our 2019 Program Reveal and Annual General Meeting! Learn where our 2019 Village Delegation will be heading\, plus we will update you on our chapter progress with a brief “Annual General Meeting” of our membership.\nThis event is a potluck. CISV Portland will provide drinks\, cups\, cutlery\, plates\, napkins. If your surname starts with A-L please bring a main dish\, M-R please bring a side dish or appetizer\, S-Z you’re on dessert. \n 
URL:https://portland.cisvusa.org/event/annual-general-meeting-and-2019-program-reveal/
LOCATION:TaborSpace\, Annex\, 5441 SE Belmont St\, Portland\, OR\, 97215
ATTACH;FMTTYPE=image/jpeg:https://portland.cisvusa.org/wp-content/uploads/sites/18/2018/07/FB_IMG_1532393133431-1-e1533087487542.jpg
GEO:45.5167944;-122.6072292
X-APPLE-STRUCTURED-LOCATION;VALUE=URI;X-ADDRESS=TaborSpace Annex 5441 SE Belmont St Portland OR 97215;X-APPLE-RADIUS=500;X-TITLE=5441 SE Belmont St:geo:-122.6072292,45.5167944
END:VEVENT
BEGIN:VEVENT
DTSTART;TZID=America/Los_Angeles:20181008T193000
DTEND;TZID=America/Los_Angeles:20181008T210000
DTSTAMP:20260419T212706
CREATED:20180718T024208Z
LAST-MODIFIED:20180916T194659Z
UID:10000011-1539027000-1539032400@portland.cisvusa.org
SUMMARY:CISV Portland Executive Committee Meeting
DESCRIPTION:
URL:https://portland.cisvusa.org/event/cisv-portland-executive-committee-meeting/2018-10-08/
LOCATION:TBD
END:VEVENT
BEGIN:VEVENT
DTSTART;TZID=America/Los_Angeles:20180910T193000
DTEND;TZID=America/Los_Angeles:20180910T210000
DTSTAMP:20260419T212706
CREATED:20180718T024208Z
LAST-MODIFIED:20180916T194659Z
UID:10000010-1536607800-1536613200@portland.cisvusa.org
SUMMARY:CISV Portland Executive Committee Meeting
DESCRIPTION:
URL:https://portland.cisvusa.org/event/cisv-portland-executive-committee-meeting/2018-09-10/
LOCATION:TBD
END:VEVENT
BEGIN:VEVENT
DTSTART;TZID=America/Los_Angeles:20180826T163000
DTEND;TZID=America/Los_Angeles:20180826T183000
DTSTAMP:20260419T212706
CREATED:20180718T023510Z
LAST-MODIFIED:20180718T023511Z
UID:10000009-1535301000-1535308200@portland.cisvusa.org
SUMMARY:Welcome Back Party
DESCRIPTION:Join us for as we welcome back our first village delegation\, and all our chapter families from their summer adventures. There will be games and fun for the kids\, and potluck dinner too so bring a dish to share. See you there!
URL:https://portland.cisvusa.org/event/welcome-back-party/
LOCATION:TaborSpace\, Muir Hall\, 5441 SE Belmont St\, Portland\, OR\, 97215
GEO:45.5167944;-122.6072292
X-APPLE-STRUCTURED-LOCATION;VALUE=URI;X-ADDRESS=TaborSpace Muir Hall 5441 SE Belmont St Portland OR 97215;X-APPLE-RADIUS=500;X-TITLE=5441 SE Belmont St:geo:-122.6072292,45.5167944
END:VEVENT
END:VCALENDAR