BEGIN:VCALENDAR
VERSION:2.0
PRODID:-//Portland - ECPv6.15.20//NONSGML v1.0//EN
CALSCALE:GREGORIAN
METHOD:PUBLISH
X-WR-CALNAME:Portland
X-ORIGINAL-URL:https://portland.cisvusa.org
X-WR-CALDESC:Events for Portland
REFRESH-INTERVAL;VALUE=DURATION:PT1H
X-Robots-Tag:noindex
X-PUBLISHED-TTL:PT1H
BEGIN:VTIMEZONE
TZID:America/Los_Angeles
BEGIN:DAYLIGHT
TZOFFSETFROM:-0800
TZOFFSETTO:-0700
TZNAME:PDT
DTSTART:20240310T100000
END:DAYLIGHT
BEGIN:STANDARD
TZOFFSETFROM:-0700
TZOFFSETTO:-0800
TZNAME:PST
DTSTART:20241103T090000
END:STANDARD
BEGIN:DAYLIGHT
TZOFFSETFROM:-0800
TZOFFSETTO:-0700
TZNAME:PDT
DTSTART:20250309T100000
END:DAYLIGHT
BEGIN:STANDARD
TZOFFSETFROM:-0700
TZOFFSETTO:-0800
TZNAME:PST
DTSTART:20251102T090000
END:STANDARD
BEGIN:DAYLIGHT
TZOFFSETFROM:-0800
TZOFFSETTO:-0700
TZNAME:PDT
DTSTART:20260308T100000
END:DAYLIGHT
BEGIN:STANDARD
TZOFFSETFROM:-0700
TZOFFSETTO:-0800
TZNAME:PST
DTSTART:20261101T090000
END:STANDARD
END:VTIMEZONE
BEGIN:VEVENT
DTSTART;TZID=America/Los_Angeles:20250405T110000
DTEND;TZID=America/Los_Angeles:20250405T130000
DTSTAMP:20260423T005402
CREATED:20250310T171618Z
LAST-MODIFIED:20250311T200131Z
UID:10000086-1743850800-1743858000@portland.cisvusa.org
SUMMARY:Project Lemonade Mosaic
DESCRIPTION:Come volunteer with us to help foster youth in our community!\nProject Lemonade Mosaic\nDate: April 5th\, 11-1 pm\nLocation: 1008 Lloyd Center\, Portland\, OR 97232\nAge Requirement: 5th grade and above\nNumber of Spots Available: 10\n\n\n\n\nWhat is Project Lemonade?\nhttps://www.projectlemonadepdx.org/\nTheir Mission Statement: We inspire self-esteem to help youth in foster care thrive.\nSince 2012\, Project Lemonade has provided high-quality services to meet the needs of the foster youth community. Our programming now includes the flagship Project Lemonade Store\, internships\,  programs for teens aging out of care\, and funding opportunities that allow youth to pursue their dreams.\n\n\n\nWhat will CISV volunteers do?\nMake self-care kits for foster youth\, as well as work in the Project Lemonade store and help on other projects as needed. It’s going to be a great time!\n\nIMPORTANT NOTE\n\n\nWe are asking that everyone who participates in this event bring a few things to donate to the foster youth. You can either buy products on Project Lemonade’s in-kind wish list or bring some of the items below to the event itself.  \nRequested items include:  \nPimple Patches\, Face scrubber\, Black face scrubber\, Face masks\, Aveeno Exfoliating Scrub\, Cetaphil Cleanser\, Beard Oil\, Sunscreen\, Hair Styling Gel\, Body Wash\, Hand Cream\, Shaving Kit\, Cooling Face Mist\, Hydrating Lip Balm \nEven if you can’t attend the event\, you can still make a donation to Project Lemonade!  \n\nRegister Now  or sign up to make a donation\n 
URL:https://portland.cisvusa.org/event/project-lemonade-mosaic/
LOCATION:1008 Lloyd Center\, Portland\, OR 97232\, 1008 Lloyd Center\, Portland\, OR\, 97232\, United States
CATEGORIES:Junior Branch (Youth ages 9+)
ATTACH;FMTTYPE=image/jpeg:https://portland.cisvusa.org/wp-content/uploads/sites/18/2025/03/IMG_1706-scaled-e1741627946874.jpeg
ORGANIZER;CN="CISV Portland":MAILTO:portland@cisvusa.org
END:VEVENT
END:VCALENDAR